Workbook
Name ｋ: #N/A
Name サービス種別: #REF!
Name サービス種類: #REF!
Name サービス名: #N/A
Name サービス名称: #N/A
Name だだ: #N/A
Name っっｋ: #N/A
Name っっっっｌ: #N/A
Name 確認: #N/A
Name 種類: #REF!

Sheet 別紙２【届出書】
B2: （別紙２）
AB3: 受付番号
B5: 介護給付費算定に係る体制等に関する届出書＜指定事業者用＞
AE6: 46113
B7: いわき | H7: 市長 | K7: 殿
V8: 所在地
V10: 名 称
C12: このことについて、関係書類を添えて以下のとおり届け出ます。
AB13: 事業所所在地市町村番号 | AJ13: 7204
B14: 届 出 者 | C14: フリガナ
C15: 名 称
C16: 主たる事務所の所在地 | M16: (郵便番号 | T16: ー | X16: ）
Q17: 県 | V17: 郡市
M18: (ビルの名称等)
C19: 連 絡 先 | M19: 電話番号 | AB19: FAX番号
C20: 法人の種別 | V20: 法人所轄庁
C21: 代表者の職・氏名 | M21: 職名 | AB21: 氏名
C22: 代表者の住所 | M22: (郵便番号 | T22: ー | X22: ）
Q23: 県 | V23: 郡市
M24: (ビルの名称等)
B25: 事業所・施設の状況 | C25: フリガナ
C26: 事業所・施設の名称
C27: 主たる事業所・施設の所在地 | M27: (郵便番号 | T27: ー | X27: ）
Q28: 県 | V28: 郡市
M29: (ビルの名称等)
C30: 連 絡 先 | M30: 電話番号 | AB30: FAX番号
C31: 主たる事業所の所在地以外の場所で一部実施する場合の出張所等の所在地 | M31: (郵便番号 | T31: ー | X31: ）
Q32: 県 | V32: 郡市
M33: (ビルの名称等)
C34: 連 絡 先 | M34: 電話番号 | AB34: FAX番号
C35: 管理者の氏名
C36: 管理者の住所 | M36: (郵便番号 | T36: ー | X36: ）
Q37: 県 | V37: 郡市
M38: (ビルの名称等)
B39: 届出を行う事業所・施設の種類 | C39: 同一所在地において行う 事業等の種類 | O39: 実施事業 | Q39: 指定（許可） | V39: 異動等の区分 | AE39: 異動（予定） | AJ39: 異動項目
Q40: 年月日 | AE40: 年月日 | AJ40: (※変更の場合)
C41: 指定居宅サービス | E41: 訪問介護 | V41: □ | W41: 1新規 | Y41: □ | Z41: 2変更 | AB41: □ | AC41: 3終了
E42: 訪問入浴介護 | V42: □ | W42: 1新規 | Y42: □ | Z42: 2変更 | AB42: □ | AC42: 3終了
E43: 訪問看護 | V43: □ | W43: 1新規 | Y43: □ | Z43: 2変更 | AB43: □ | AC43: 3終了
E44: 訪問ﾘﾊﾋﾞﾘﾃｰｼｮﾝ | V44: □ | W44: 1新規 | Y44: □ | Z44: 2変更 | AB44: □ | AC44: 3終了
...

Sheet 別紙１-1
A2: （別紙１ー1）
A3: 介 護 給 付 費 算 定 に 係 る 体 制 等 状 況 一 覧 表（居宅サービス・施設サービス・居宅介護支援）
S5: 事 業 所 番 号 | W5: =別紙２【届出書】!M64 -> 0 | X5: =別紙２【届出書】!N64 -> 0 | Y5: =別紙２【届出書】!O64 -> 0 | Z5: =別紙２【届出書】!P64 -> 0 | AA5: =別紙２【届出書】!Q64 -> 0 | AB5: =別紙２【届出書】!R64 -> 0 | AC5: =別紙２【届出書】!S64 -> 0 | AD5: =別紙２【届出書】!T64 -> 0 | ... AF5: =別紙２【届出書】!V64 -> 0
A7: 提供サービス | D7: 施設等の区分 | F7: 人員配置区分 | H7: そ の 他 該 当 す る 体 制 等 | Y7: LIFEへの登録 | AC7: 割 引
A8: 各サービス共通 | H8: 地域区分 | I8: □ | J8: １ １級地 | M8: □ | N8: ６ ２級地 | Q8: □ | R8: ７ ３級地 | U8: □ | V8: ２ ４級地
I9: □ | J9: ３ ５級地 | M9: □ | N9: ４ ６級地 | Q9: □ | R9: ９ ７級地 | U9: □ | V9: ５ その他
H10: 定期巡回・随時対応サービスに関する状況 | I10: □ | J10: １ 定期巡回の指定を受けていない | Y10: □ | Z10: １ なし | AC10: □ | AD10: １ なし
I11: □ | J11: ２ 定期巡回の指定を受けている | Y11: □ | Z11: ２ あり | AC11: □ | AD11: ２ あり
I12: □ | J12: ３ 定期巡回の整備計画がある
H13: 高齢者虐待防止措置実施の有無 | I13: □ | J13: １ 減算型 | M13: □ | N13: ２ 基準型
H14: 業務継続計画策定の有無 | I14: □ | J14: １ 減算型 | M14: □ | N14: ２ 基準型
H15: 特定事業所加算（Ⅴ以外） | I15: □ | J15: １ なし | L15: □ | M15: ２ 加算Ⅰ | O15: □ | P15: ３ 加算Ⅱ | R15: □ | S15: ４ 加算Ⅲ | U15: □ | V15: ５ 加算Ⅳ
H16: 特定事業所加算Ⅴ | I16: □ | J16: １ なし | L16: □ | M16: ２ あり
H17: 共生型サービスの提供 （居宅介護事業所） | I17: □ | J17: １ なし | L17: □ | M17: ２ あり
D19: □ | E19: １ 身体介護 | H19: 共生型サービスの提供 （重度訪問介護事業所） | I19: □ | J19: １ なし | L19: □ | M19: ２ あり
A20: □ | B20: 11 | C20: 訪問介護 | D20: □ | E20: ２ 生活援助
D21: □ | E21: ３ 通院等乗降介助 | H21: 同一建物減算（同一敷地内建物等に居住する者への提供） | I21: □ | J21: １ 非該当 | M21: □ | N21: ２ 該当
H23: 同一建物減算（同一敷地内建物等に居住する者への提供（利用者50人以上）） | I23: □ | J23: １ 非該当 | M23: □ | N23: ２ 該当
H25: 同一建物減算（同一敷地内建物等に居住する者への提供割合90％以上） | I25: □ | J25: １ 非該当 | M25: □ | N25: ２ 該当
H27: 特別地域加算 | I27: □ | J27: １ なし | L27: □ | M27: ２ あり
H28: 中山間地域等における小規模事業所 加算（地域に関する状況） | I28: □ | J28: １ 非該当 | M28: □ | N28: ２ 該当
H30: 中山間地域等における小規模事業所 加算（規模に関する状況） | I30: □ | J30: １ 非該当 | M30: □ | N30: ２ 該当
H32: 口腔連携強化加算 | I32: □ | J32: １ なし | L32: □ | M32: ２ あり
H33: 認知症専門ケア加算 | I33: □ | J33: １ なし | L33: □ | M33: ２ 加算Ⅰ | O33: □ | P33: ３ 加算Ⅱ
H34: 介護職員等処遇改善加算 | I34: □ | J34: １ なし | M34: □ | N34: ７ 加算Ⅰイ | Q34: □ | R34: Ｓ 加算Ⅰロ
I35: □ | J35: ８ 加算Ⅱイ | M35: □ | N35: Ｔ 加算Ⅱロ | Q35: □ | R35: ９ 加算Ⅲ | U35: □ | V35: Ａ 加算Ⅳ
A37: 介 護 給 付 費 算 定 に 係 る 体 制 等 状 況 一 覧 表（主たる事業所の所在地以外の場所で一部実施する場合の出張所等の状況）
S39: 事 業 所 番 号 | W39: =W5 -> 0 | X39: =X5 -> 0 | Y39: =Y5 -> 0 | Z39: =Z5 -> 0 | AA39: =AA5 -> 0 | AB39: =AB5 -> 0 | AC39: =AC5 -> 0 | AD39: =AD5 -> 0 | ... AF39: =AF5 -> 0
A41: 提供サービス | D41: 施設等の区分 | F41: 人員配置区分 | H41: そ の 他 該 当 す る 体 制 等
A42: 各サービス共通 | H42: 地域区分 | I42: □ | J42: １ １級地 | M42: □ | N42: ６ ２級地 | Q42: □ | R42: ７ ３級地 | U42: □ | V42: ２ ４級地
I43: □ | J43: ３ ５級地 | M43: □ | N43: ４ ６級地 | Q43: □ | R43: ９ ７級地 | U43: □ | V43: ５ その他
H44: 定期巡回・随時対応サービスに関する状況 | I44: □ | J44: １ 定期巡回の指定を受けていない
I45: □ | J45: ２ 定期巡回の指定を受けている
I46: □ | J46: ３ 定期巡回の整備計画がある
H47: 高齢者虐待防止措置実施の有無 | I47: □ | J47: １ 減算型 | M47: □ | N47: ２ 基準型
H48: 業務継続計画策定の有無 | I48: □ | J48: １ 減算型 | M48: □ | N48: ２ 基準型
H49: 共生型サービスの提供 （居宅介護事業所） | I49: □ | J49: １ なし | L49: □ | M49: ２ あり
H51: 共生型サービスの提供 （重度訪問介護事業所） | I51: □ | J51: １ なし | L51: □ | M51: ２ あり
H53: 同一建物減算（同一敷地内建物等に居住する者への提供） | I53: □ | J53: １ 非該当 | M53: □ | N53: ２ 該当
D54: □ | E54: １ 身体介護
...

Sheet 備考（1）
B1: 備考 （別紙１）居宅サービス・施設サービス・居宅介護支援
B3: 備考 １ 事業所・施設において、施設等の区分欄、人員配置区分欄、LIFE（科学的介護情報システム（Long-term care Information system For Evidence）への登録欄、その他該当する体制等欄に掲げる項目につき該当する番号の横の□を■にしてください。
B4: ２ 「施設等の区分」及び「その他該当する体制等」欄で施設・設備等に係る加算（減算）の届出については、「平面図」（別紙６）を添付してください。
B5: ３ 介護老人保健施設における「施設等の区分」及び「在宅復帰・在宅療養支援機能加算」に係る届出については、「介護老人保健施設（基本型・在宅強化型）の基本施設サービス費及び在宅復帰・在宅療養支援機能加算に係る届出書」
B6: （令和６年９月サービス提供分までは別紙29、令和６年10月サービス提供分以降は別紙29－２）又は「介護老人保健施設（療養型）の基本施設サービス費及び療養体制維持特別加算（Ⅱ）に係る届出書」（別紙29-3）を添付してください。
B7: ４ 病院又は診療所における短期入所療養介護（療養機能強化型以外）における「施設等の区分」に係る届出については、「病院又は診療所における短期入所療養介護（療養機能強化型以外）の基本施設サービス費に係る届出書」（別紙29－4）を添付してください。
B8: ５ 介護医療院における「施設等の区分」に係る届出については、「Ⅰ型介護医療院の基本施設サービス費に係る届出」（別紙30）又は「Ⅱ型介護医療院の基本施設サービス費に係る届出」（別紙30-2）を添付してください。
B9: ６ 訪問看護における定期巡回・随時対応型訪問介護看護事業所と連携しサービス提供を行う場合については、「訪問看護事業所における定期巡回・随時対応型訪問介護看護連携に係る届出書」（別紙15）を添付してください。
B10: ７ 「定期巡回・随時対応サービスに関する状況」を「定期巡回の指定を受けている」もしくは「定期巡回の整備計画がある」と記載する場合は、「定期巡回・随時対応サービスに関する状況等に係る届出書（訪問介護事業所）」
B11: （別紙8）を添付して下さい。
B12: ８ 人員配置に係る届出については、勤務体制がわかる書類（「従業者の勤務の体制及び勤務形態一覧表」（別紙７）又はこれに準じた勤務割表等）を添付してください。
B13: ９ 「割引｣を｢あり｣と記載する場合は「指定居宅サービス事業所等による介護給付費の割引に係る割引率の設定について」（別紙５）を添付してください。
... B76: 備考 １ この表は、事業所所在地以外の場所で一部事業を実施する出張所等がある場合について記載することとし、複数出張所等を有する場合は出張所ごとに提出してください。

Sheet 別紙26【届出書】
B1: （別紙２６） | S1: 受付番号
B3: 介護予防・日常生活支援総合事業費算定に係る体制等に関する届出書
S5: 46113
C6: いわき市長 様
Q7: 所 在 地
Q9: 名 称
C11: このことについて、関係書類を添えて次のとおり届け出ます。
R13: 事業所所在地市町村番号 | U13: 72041
B14: 届出者 | C14: フリガナ
C15: 名 称
C16: 主たる事務所の所在地 | G16: （郵便番号 | O16: － | Q16: ）
C18: 連絡先 | G18: 電話番号 | R18: ＦＡＸ番号
C19: 法人の種別 | Q19: 法人所轄庁
C20: 代表者の職・氏名 | G20: 職 名 | R20: 氏名
C21: 代表者の住所 | G21: （郵便番号 | O21: － | Q21: ）
B24: 事業所の状況 | C24: フリガナ
C25: 事業所の名称
C26: 主たる事業所・施設の 所在地 | G26: （郵便番号 | O26: － | Q26: ）
C28: 連絡先 | G28: 電話番号 | R28: ＦＡＸ番号
C29: 主たる事業所の所在地以外の場所で一部実施する場合の出張所等の所在地 | G29: （郵便番号 | O29: － | Q29: ）
C31: 連絡先 | G31: 電話番号 | R31: ＦＡＸ番号
C32: 管理者の氏名
C33: 管理者の住所 | G33: （郵便番号 | O33: － | Q33: ）
B36: 届出を行う事業等 | C36: 同一所在地において行う 事業等の種類 | K36: 実施事業 | M36: 指定（許可） 年月日 | Q36: 異動等の区分 | S36: 異動(予定) 年月日 | U36: 異動項目 （※変更の場合）
D37: 訪問型サービス 【介護予防訪問介護相当サービス】 | Q37: １新規 ２変更 ３終了
D38: 訪問型サービス 【生活援助サービス】 | Q38: １新規 ２変更 ３終了
D39: 通所型サービス 【介護予防通所介護相当サービス】 | Q39: １新規 ２変更 ３終了
D40: 通所型サービス 【通所型短期集中予防サービス】 | Q40: １新規 ２変更 ３終了
B41: 事業所番号
B42: 特記事項 | C42: 変 更 前 | Q42: 変 更 後
B45: 関係書類 | G45: 別紙のとおり
B47: 備考 | C47: 1 | D47: ｢受付番号」「事業所所在市町村番号」欄には記入しないでください。
C48: 2 | D48: ｢法人の種別」欄は、申請者が法人である場合に、｢社会福祉法人」｢医療法人」｢社団法人」｢財団法人」 ｢株式会社」「有限会社」等の別を記入してください。
C49: 3 | D49: ｢法人所轄庁」欄は、申請者が認可法人である場合に、その主務官庁の名称を記入してください。
C50: 4 | D50: ｢実施事業」欄は、該当する欄に「〇」を記入してください。
C51: 5 | D51: ｢異動等の区分」欄は、今回届出を行う事業所・施設について該当する数字を「〇」で囲んでください。
C52: 6 | D52: ｢異動項目」欄には、変更の場合に別紙「介護予防・日常生活支援総合事業費算定に係る体制等状況一覧表」 記載してください。
D53: に掲げる項目を記載してください。
C54: 7 | D54: ｢特記事項」欄には、異動の状況について具体的に記載してください。
C55: 8 | D55: ｢主たる事業所の所在地以外の場所で一部実施する場合の出張所等の所在地」について、複数の 出張所等を有する場合は、適宜、欄を補正して、全ての出張所等の状況について記載してください。

Sheet 別紙１ｰ4(総合事業)
A2: （別紙１－４）
A3: 介 護 予 防・日 常 生 活 支 援 総 合 事 業 費 算 定 に 係 る 体 制 等 状 況 一 覧 表
S5: 事 業 所 番 号 | W5: =別紙26【届出書】!F41 -> 0 | X5: =別紙26【届出書】!G41 -> 0 | Y5: =別紙26【届出書】!H41 -> 0 | Z5: =別紙26【届出書】!I41 -> 0 | AA5: =別紙26【届出書】!J41 -> 0 | AB5: =別紙26【届出書】!K41 -> 0 | AC5: =別紙26【届出書】!L41 -> 0 | AD5: =別紙26【届出書】!M41 -> 0 | ... AF5: =別紙26【届出書】!O41 -> 0
A7: 提供サービス | D7: 施設等の区分 | F7: 人員配置区分 | H7: そ の 他 該 当 す る 体 制 等 | Y7: LIFEへの登録 | AC7: 割 引
H8: 高齢者虐待防止措置実施の有無 | I8: □ | J8: １ 減算型 | M8: □ | N8: ２ 基準型 | Y8: □ | Z8: １ なし | AC8: □ | AD8: １ なし
H9: 業務継続計画策定の有無 | I9: □ | J9: １ 減算型 | M9: □ | N9: ２ 基準型 | Y9: □ | Z9: ２ あり | AC9: □ | AD9: ２ あり
H10: 同一建物減算（同一敷地内建物等に居住する者への提供） | I10: □ | J10: １ 非該当 | M10: □ | N10: ２ 該当
H12: 同一建物減算（同一敷地内建物等に居住する者への提供（利用者50人以上）） | I12: □ | J12: １ 非該当 | M12: □ | N12: ２ 該当
H14: 同一建物減算（同一敷地内建物等に居住する者への提供割合90％以上） | I14: □ | J14: １ 非該当 | M14: □ | N14: ２ 該当
A16: □ | B16: A2 | C16: 訪問型サービス（独自） | H16: 特別地域加算 | I16: □ | J16: １ なし | L16: □ | M16: ２ あり
H17: 中山間地域等における小規模事業所 加算（地域に関する状況） | I17: □ | J17: １ 非該当 | M17: □ | N17: ２ 該当
H19: 中山間地域等における小規模事業所 加算（規模に関する状況） | I19: □ | J19: １ 非該当 | M19: □ | N19: ２ 該当
H21: 口腔連携強化加算 | I21: □ | J21: １ なし | L21: □ | M21: ２ あり
H22: 介護職員等処遇改善加算 | I22: □ | J22: １ なし | M22: □ | N22: ７ 加算Ⅰイ | Q22: □ | R22: Ｓ 加算Ⅰロ
I23: □ | J23: ８ 加算Ⅱイ | M23: □ | N23: Ｔ 加算Ⅱロ | Q23: □ | R23: ９ 加算Ⅲ | U23: □ | V23: Ａ 加算Ⅳ
H24: 特別地域加算 | I24: □ | J24: １ なし | L24: □ | M24: ２ あり
H25: 中山間地域等における小規模事業所 加算（地域に関する状況） | I25: □ | J25: １ 非該当 | M25: □ | N25: ２ 該当
D26: □ | E26: 指定訪問介護事業所等
A27: □ | B27: A3 | C27: 生活援助サービス | H27: 中山間地域等における小規模事業所 加算（規模に関する状況） | I27: □ | J27: １ 非該当 | M27: □ | N27: ２ 該当
D28: □ | E28: 上記以外の事業者
H29: 介護職員等処遇改善加算 | I29: □ | J29: １ なし | M29: □ | N29: ７ 加算Ⅰイ | Q29: □ | R29: Ｓ 加算Ⅰロ
I30: □ | J30: ８ 加算Ⅱイ | M30: □ | N30: Ｔ 加算Ⅱロ | Q30: □ | R30: ９ 加算Ⅲ | U30: □ | V30: Ａ 加算Ⅳ
C31: 備考 １ 「割引｣を｢あり｣と記載する場合は「介護予防・日常生活支援総合事業者による事業費の割引に係る割引率の設定について」（別紙37）を添付してください。
C32: ２ 「サービス提供体制強化加算」については、「サービス提供体制強化加算に関する届出書」（別紙38）を添付してください。
A36: 介 護 予 防・日 常 生 活 支 援 総 合 事 業 費 算 定 に 係 る 体 制 等 状 況 一 覧 表（主たる事業所の所在地以外の場所で一部実施する場合の出張所等の状況）
S38: 事 業 所 番 号 | W38: =W5 -> 0 | X38: =X5 -> 0 | Y38: =Y5 -> 0 | Z38: =Z5 -> 0 | AA38: =AA5 -> 0 | AB38: =AB5 -> 0 | AC38: =AC5 -> 0 | AD38: =AD5 -> 0 | ... AF38: =AF5 -> 0
A40: 提供サービス | D40: 施設等の区分 | F40: 人員配置区分 | H40: そ の 他 該 当 す る 体 制 等
H41: 高齢者虐待防止措置実施の有無 | I41: □ | J41: １ 減算型 | M41: □ | N41: ２ 基準型
H42: 業務継続計画策定の有無 | I42: □ | J42: １ 減算型 | M42: □ | N42: ２ 基準型
H43: 同一建物減算（同一敷地内建物等に居住する者への提供） | I43: □ | J43: １ 非該当 | M43: □ | N43: ２ 該当
H45: 同一建物減算（同一敷地内建物等に居住する者への提供（利用者50人以上）） | I45: □ | J45: １ 非該当 | M45: □ | N45: ２ 該当
H47: 同一建物減算（同一敷地内建物等に居住する者への提供割合90％以上） | I47: □ | J47: １ 非該当 | M47: □ | N47: ２ 該当
A49: □ | B49: A2 | C49: 訪問型サービス（独自） | H49: 特別地域加算 | I49: □ | J49: １ なし | L49: □ | M49: ２ あり
H50: 中山間地域等における小規模事業所 加算（地域に関する状況） | I50: □ | J50: １ 非該当 | M50: □ | N50: ２ 該当
H52: 中山間地域等における小規模事業所 加算（規模に関する状況） | I52: □ | J52: １ 非該当 | M52: □ | N52: ２ 該当
H54: 口腔連携強化加算 | I54: □ | J54: １ なし | L54: □ | M54: ２ あり
H55: 特別地域加算 | I55: □ | J55: １ なし | L55: □ | M55: ２ あり
D56: □ | E56: 指定訪問介護事業所等 | H56: 中山間地域等における小規模事業所 加算（地域に関する状況） | I56: □ | J56: １ 非該当 | M56: □ | N56: ２ 該当
A57: □ | B57: A3 | C57: 生活援助サービス
D58: □ | E58: 上記以外の事業者 | H58: 中山間地域等における小規模事業所 加算（規模に関する状況） | I58: □ | J58: １ 非該当 | M58: □ | N58: ２ 該当
...

Sheet 別紙●24
B2: （別紙●）
Z3: 受付番号
B5: 介護給付費算定に係る体制等に関する進達書＜基準該当事業者用＞
AE6: 平成 | AH6: 年 | AJ6: 月 | AL6: 日
B7: 知事 殿
AC8: 市町村長名
C9: このことについて、以下のとおり事業者から届出がありましたので関係書類を添えて進達します。
B11: 届 出 者 | C11: フリガナ
C12: 名 称
C13: 主たる事務所の所在地 | L13: (郵便番号 ― )
L14: 県 郡市
L15: (ビルの名称等)
C16: 連 絡 先 | L16: 電話番号 | Z16: FAX番号
C17: 法人である場合その種別 | U17: 法人所轄庁
C18: 代表者の職・氏名 | L18: 職名 | Z18: 氏名
C19: 代表者の住所 | L19: (郵便番号 ― )
L20: 県 郡市
B22: 事業所の状況 | C22: 主たる事業所の所在地 | L22: (郵便番号 ― )
L23: 県 郡市
C25: 連 絡 先 | L25: 電話番号 | Z25: FAX番号
C26: 主たる事業所の所在地以外の場所で一部実施する場合の出張所等の所在地 | L26: (郵便番号 ― )
L27: 県 郡市
C29: 連 絡 先 | L29: 電話番号 | Z29: FAX番号
C30: 管理者の氏名
C31: 管理者の住所 | L31: (郵便番号 ― )
L32: 県 郡市
B34: 届出を行う事業所の状況 | C34: 同一所在地において行う 事業等の種類 | M34: 実施事業 | O34: 登録年 | R34: 異動等の区分 | Y34: 異動（予定） | AC34: 異動項目 | AH34: 市町村が定める率
O35: 月日 | Y35: 年月日 | AC35: (※変更の場合) | AH35: (市町村記載)
E36: 訪問介護 | R36: 1新規 2変更 3終了 | AL36: ％
E37: 訪問入浴介護 | R37: 1新規 2変更 3終了 | AL37: ％
E38: 通所介護 | R38: 1新規 2変更 3終了 | AL38: ％
E39: 短期入所生活介護 | R39: 1新規 2変更 3終了 | AL39: ％
E40: 福祉用具貸与 | R40: 1新規 2変更 3終了 | AL40: ％
E41: 居宅介護支援 | R41: 1新規 2変更 3終了 | AL41: ％
E42: 介護予防訪問介護 | R42: 1新規 2変更 3終了 | AL42: ％
E43: 介護予防訪問入浴介護 | R43: 1新規 2変更 3終了 | AL43: ％
E44: 介護予防通所介護 | R44: 1新規 2変更 3終了 | AL44: ％
E45: 介護予防短期入所生活介護 | R45: 1新規 2変更 3終了 | AL45: ％
E46: 介護予防福祉用具貸与 | R46: 1新規 2変更 3終了 | AL46: ％
E47: 介護予防支援 | R47: 1新規 2変更 3終了 | AL47: ％
...
